BEGIN:VCALENDAR
VERSION:2.0
PRODID:Events Booking
BEGIN:VEVENT
UID:69e7627c1c897
SUMMARY:Gubernatorial Oil & Gas Forum
DESCRIPTION:Join the Petroleum Association of Wyoming (PAW) on May 11 at 3 
 PM in Casper\, WY (Ramkota Hotel Theater Room) for an Oil &amp\; Gas Forum
  featuring gubernatorial candidates Megan Degenfelder and Eric Barlow. The
  discussion will focus on key issues impacting Wyoming’s energy industry
 .
DTSTART:20260511T060000Z
DTEND:20260511T060000Z
DTSTAMP:20260421T025108Z
ORGANIZER;CN=Wyoming Association of Professional Landmen:MAILTO:info@wyland
 man.com
END:VEVENT
END:VCALENDAR